BEGIN:VCALENDAR
VERSION:2.0
PRODID:-//Myliba - ECPv6.15.12.2//NONSGML v1.0//EN
CALSCALE:GREGORIAN
METHOD:PUBLISH
X-WR-CALNAME:Myliba
X-ORIGINAL-URL:https://myliba.com/tr
X-WR-CALDESC:Myliba için etkinlikler
REFRESH-INTERVAL;VALUE=DURATION:PT1H
X-Robots-Tag:noindex
X-PUBLISHED-TTL:PT1H
BEGIN:VTIMEZONE
TZID:Europe/Moscow
BEGIN:STANDARD
TZOFFSETFROM:+0300
TZOFFSETTO:+0300
TZNAME:MSK
DTSTART:20250101T000000
END:STANDARD
END:VTIMEZONE
BEGIN:VEVENT
DTSTART;TZID=Europe/Moscow:20260114T100000
DTEND;TZID=Europe/Moscow:20260114T110000
DTSTAMP:20260419T235109
CREATED:20260123T102814Z
LAST-MODIFIED:20260123T102814Z
UID:616-1768384800-1768388400@myliba.com
SUMMARY:Zorlu Rekabet Şartlarında Sağlıklı Başarı Baskısı Nasıl Oluşturulur!
DESCRIPTION:  \nRekabet her zamankinden daha sert. Hedefler zorlayıcı\, beklentiler yüksek. Peki bu baskı çalışanları tüketen değil\, ekipleri güçlendiren bir güce nasıl dönüşür? 🚀 \nBu webinar’da;\nSağlıklı başarı baskısı nedir?\nNe zaman yıpratıcı hale gelir? — “7 günah” yaklaşımı ⚠️\nHedefler\, etik ve psikolojik güvenlik ilişkisi\nSağlıklı başarı baskısından gerçekçi & ilan edilmiş hedeflere geçişi ele alıyoruz. \nKlasik “performans–kaygı” döngüsünü kırmak\, etik sınırlar içinde kalarak takımınızın potansiyelini açığa çıkarmak istiyorsanız\, bu webinar tam size göre.
URL:https://myliba.com/tr/event/zorlu-rekabet-sartlarinda-saglikli-basari-baskisi-nasil-olusturulur/
LOCATION:Linkedin Live
CATEGORIES:CFR,KPI,OKR
END:VEVENT
END:VCALENDAR