BEGIN:VCALENDAR
VERSION:2.0
PRODID:-//Myliba - ECPv6.15.12.2//NONSGML v1.0//EN
CALSCALE:GREGORIAN
METHOD:PUBLISH
X-WR-CALNAME:Myliba
X-ORIGINAL-URL:https://myliba.com/tr
X-WR-CALDESC:Myliba için etkinlikler
REFRESH-INTERVAL;VALUE=DURATION:PT1H
X-Robots-Tag:noindex
X-PUBLISHED-TTL:PT1H
BEGIN:VTIMEZONE
TZID:Europe/Moscow
BEGIN:STANDARD
TZOFFSETFROM:+0300
TZOFFSETTO:+0300
TZNAME:MSK
DTSTART:20240101T000000
END:STANDARD
END:VTIMEZONE
BEGIN:VEVENT
DTSTART;TZID=Europe/Moscow:20250313T120000
DTEND;TZID=Europe/Moscow:20250313T130000
DTSTAMP:20260420T172518
CREATED:20250319T165350Z
LAST-MODIFIED:20250327T103453Z
UID:411-1741867200-1741870800@myliba.com
SUMMARY:Not Vermeden Performansı Yönetmek
DESCRIPTION:  \n \nWebinar’ımızın bu bölümünde A. Seda Koytak\, Metin Usta ve Dilek Mete\, PCC ile birlikte\, not vermeden performansı yönetmenin etkili yollarını konuşacağız. \nBu keyifli ve değerli bilgilerle dolu oturumu kaçırmayın! 🚀
URL:https://myliba.com/tr/event/okr-kpi/
CATEGORIES:CFR,KPI,OKR
END:VEVENT
END:VCALENDAR