BEGIN:VCALENDAR
VERSION:2.0
PRODID:-//Myliba - ECPv6.15.12.2//NONSGML v1.0//EN
CALSCALE:GREGORIAN
METHOD:PUBLISH
X-WR-CALNAME:Myliba
X-ORIGINAL-URL:https://myliba.com/tr
X-WR-CALDESC:Myliba için etkinlikler
REFRESH-INTERVAL;VALUE=DURATION:PT1H
X-Robots-Tag:noindex
X-PUBLISHED-TTL:PT1H
BEGIN:VTIMEZONE
TZID:Europe/Moscow
BEGIN:STANDARD
TZOFFSETFROM:+0300
TZOFFSETTO:+0300
TZNAME:MSK
DTSTART:20240101T000000
END:STANDARD
END:VTIMEZONE
BEGIN:VEVENT
DTSTART;TZID=Europe/Moscow:20251211T100000
DTEND;TZID=Europe/Moscow:20251211T110000
DTSTAMP:20260419T201534
CREATED:20251128T112611Z
LAST-MODIFIED:20251128T112611Z
UID:585-1765447200-1765450800@myliba.com
SUMMARY:🚀 Gen Z'nin Hedefe Bağlılığı Nasıl Yaratılır?
DESCRIPTION:  \nYeni çalışma modelleri ve değişen beklentilerle birlikte genç yeteneklerle hedef uyumunu sağlamak artık hiç olmadığı kadar kritik.\nGen Z ile hedef belirleme\, bağlılık\, motivasyon ve performans kültürü üzerine gerçek şirket deneyimlerini konuşuyoruz.
URL:https://myliba.com/tr/event/%f0%9f%9a%80-gen-znin-hedefe-bagliligi-nasil-yaratilir/
LOCATION:Linkedin Live
END:VEVENT
END:VCALENDAR