BEGIN:VCALENDAR
VERSION:2.0
PRODID:-//Myliba - ECPv6.15.12.2//NONSGML v1.0//EN
CALSCALE:GREGORIAN
METHOD:PUBLISH
X-ORIGINAL-URL:https://myliba.com/tr
X-WR-CALDESC:Myliba için etkinlikler
REFRESH-INTERVAL;VALUE=DURATION:PT1H
X-Robots-Tag:noindex
X-PUBLISHED-TTL:PT1H
BEGIN:VTIMEZONE
TZID:Europe/Moscow
BEGIN:STANDARD
TZOFFSETFROM:+0300
TZOFFSETTO:+0300
TZNAME:MSK
DTSTART:20240101T000000
END:STANDARD
END:VTIMEZONE
BEGIN:VEVENT
DTSTART;TZID=Europe/Moscow:20250604T140000
DTEND;TZID=Europe/Moscow:20250604T150000
DTSTAMP:20260420T063801
CREATED:20250603T093009Z
LAST-MODIFIED:20250603T093009Z
UID:509-1749045600-1749049200@myliba.com
SUMMARY:CFR’ın ‘F’si: Feedback mi\, Feedforward mı?
DESCRIPTION:  \n \n🔍 CFR uygulamaları hızla yaygınlaşıyor. Peki “F” harfini gerçekten doğru mu anlıyoruz?\nKoçlar\, liderler ve İK profesyonelleri “feedback”i konuşuyor\, peki ya “feedforward”?\n⏪ Sürekli geçmişe bakan yorumlar gelişimi ne kadar ileri taşıyabilir? \n📌 Bu yayında;\nFeedforward’ın değişim ve gelişimdeki rolünü\nCFR’ın neden geleceğe dönük bir yapı olması gerektiğini ele alıyoruz. \n➡️ Geriye değil\, ileriye konuşan bir performans kültürü kurmak isteyen herkesi bekliyoruz.
URL:https://myliba.com/tr/event/cfrin-fsi-feedback-mi-feedforward-mi/
LOCATION:Linkedin Live
CATEGORIES:CFR,OKR
END:VEVENT
BEGIN:VEVENT
DTSTART;TZID=Europe/Moscow:20250625T110000
DTEND;TZID=Europe/Moscow:20250625T120000
DTSTAMP:20260420T063801
CREATED:20250622T091537Z
LAST-MODIFIED:20250622T091835Z
UID:539-1750849200-1750852800@myliba.com
SUMMARY:Yönetim 5.0’da Hedefleri Kim Yönetiyor?
DESCRIPTION:  \nYönetim 5.0 sadece bir paradigma değişimi değil\, aynı zamanda hedeflerle çalışmanın kültürel ve teknolojik yeniden tasarımı. Peki bu yeni dünyada: \n✅ Hedefleri gerçekten kim yönetiyor?\n✅ Çalışanlar hedeflerle nasıl bağ kuruyor?\n✅ Yazılım\, bu dönüşümde ne kadar etkili? \nBu webinar tam da bu dönüşüm yolculuğunu konuşmak için! \n🗓️ 25 Haziran Çarşamba saat 11:00\n📍 Linkedin Live \nKatılın\, birlikte düşünelim!
URL:https://myliba.com/tr/event/yonetim-5-0da-hedefleri-kim-yonetiyor/
LOCATION:Linkedin Live
END:VEVENT
END:VCALENDAR