BEGIN:VCALENDAR
VERSION:2.0
PRODID:-//Myliba - ECPv6.15.12.2//NONSGML v1.0//EN
CALSCALE:GREGORIAN
METHOD:PUBLISH
X-ORIGINAL-URL:https://myliba.com/tr
X-WR-CALDESC:Myliba için etkinlikler
REFRESH-INTERVAL;VALUE=DURATION:PT1H
X-Robots-Tag:noindex
X-PUBLISHED-TTL:PT1H
BEGIN:VTIMEZONE
TZID:Europe/Moscow
BEGIN:STANDARD
TZOFFSETFROM:+0300
TZOFFSETTO:+0300
TZNAME:MSK
DTSTART:20250101T000000
END:STANDARD
END:VTIMEZONE
BEGIN:VEVENT
DTSTART;TZID=Europe/Moscow:20260402T080000
DTEND;TZID=Europe/Moscow:20260402T170000
DTSTAMP:20260416T140409
CREATED:20260401T150813Z
LAST-MODIFIED:20260401T153859Z
UID:633-1775116800-1775149200@myliba.com
SUMMARY:HBR Türkiye İnsan ve Kültür Zirvesi 2026'da Özel Oturum Sponsoruyuz!
DESCRIPTION:İnsan\, kültür ve organizasyon ilişkilerinin yeniden tanımlandığı yapay zekâ çağında; bu dönüşümü birlikte konuşmak üzere 2 Nisan’da Harvard Business Review Türkiye İnsan ve Kültür Zirvesi 2026’da buluşuyoruz. ⭐ \nMyliba Kurucu ve Yönetici Ortağı Dilek Mete’nin anlatımıyla; performans yönetimi zihniyetini “değerlendirmekten geliştirmeye” taşıyacağımız bu oturumda\, kültürü ve insanı merkeze alan karar mekanizmalarıyla lider kararlarının nasıl daha şeffaf ve adil hale geldiğini ele alacağız. \nSizi de aramızda görmekten memnuniyet duyarız. \n👉 Etkinliğe online olarak katılmak için aşağıdaki link üzerinden kayıt olabilirsiniz. \n 
URL:https://myliba.com/tr/event/633/
LOCATION:Four Seasons Hotel Istanbul At The Bosphorus
END:VEVENT
END:VCALENDAR