BEGIN:VCALENDAR
VERSION:2.0
PRODID:-//Myliba - ECPv6.15.12.2//NONSGML v1.0//EN
CALSCALE:GREGORIAN
METHOD:PUBLISH
X-WR-CALNAME:Myliba
X-ORIGINAL-URL:https://myliba.com/tr
X-WR-CALDESC:Myliba için etkinlikler
REFRESH-INTERVAL;VALUE=DURATION:PT1H
X-Robots-Tag:noindex
X-PUBLISHED-TTL:PT1H
BEGIN:VTIMEZONE
TZID:Europe/Moscow
BEGIN:STANDARD
TZOFFSETFROM:+0300
TZOFFSETTO:+0300
TZNAME:MSK
DTSTART:20250101T000000
END:STANDARD
END:VTIMEZONE
BEGIN:VEVENT
DTSTART;TZID=Europe/Moscow:20260211T093000
DTEND;TZID=Europe/Moscow:20260211T160000
DTSTAMP:20260416T134128
CREATED:20260123T103451Z
LAST-MODIFIED:20260123T111106Z
UID:619-1770802200-1770825600@myliba.com
SUMMARY:Gelenekselden Yeni Nesil Performansa Geçiş Simülasyonu
DESCRIPTION:  \nKlasik performans yönetimi yaklaşımlarının bugün neden artık çalışmadığını ve yeni nesil performansın nasıl tasarlanıp hayata geçirildiğini\,  gerçek bir iş simülasyonu üzerinden birlikte deneyimliyoruz. \nWorkshop boyunca Native OKR · Yalın KPI · CFR yaklaşımlarını\,araçlar ve uygulamalarla ele alıyoruz. \nBu bir anlatım değil; sürecin içinde yer aldığınız bir deneyim. \n📆 11 Şubat 2026 | 09:30–16:00\n📍 Han Space\, 4. Levent\n💼 5.000 TL | max 16 katılımcı \nKatılım için hello@myliba.com adresinden veya bu linkten bize ulaşabilirsiniz.
URL:https://myliba.com/tr/event/619/
LOCATION:Han Space 4. Levent\, Çınar Plaza\, Yeşilce\, Destegül Sk No:1\, 34403 Kağıthane/ İstanbul\, Turkey
CATEGORIES:CFR,KPI,OKR
END:VEVENT
END:VCALENDAR