BEGIN:VCALENDAR
VERSION:2.0
PRODID:-//Myliba - ECPv6.15.12.2//NONSGML v1.0//EN
CALSCALE:GREGORIAN
METHOD:PUBLISH
X-WR-CALNAME:Myliba
X-ORIGINAL-URL:https://myliba.com/tr
X-WR-CALDESC:Myliba için etkinlikler
REFRESH-INTERVAL;VALUE=DURATION:PT1H
X-Robots-Tag:noindex
X-PUBLISHED-TTL:PT1H
BEGIN:VTIMEZONE
TZID:Europe/Moscow
BEGIN:STANDARD
TZOFFSETFROM:+0300
TZOFFSETTO:+0300
TZNAME:MSK
DTSTART:20240101T000000
END:STANDARD
END:VTIMEZONE
BEGIN:VEVENT
DTSTART;TZID=Europe/Moscow:20250522T110000
DTEND;TZID=Europe/Moscow:20250522T120000
DTSTAMP:20260420T095942
CREATED:20250516T072056Z
LAST-MODIFIED:20250516T122719Z
UID:472-1747911600-1747915200@myliba.com
SUMMARY:Livewell’in Kültürel Dönüşüm Yolculuğu
DESCRIPTION:🎯 LiveWell’in Kültürel Dönüşüm Yolculuğu\nHedefleme ve Temel Performans ile Yüksek Performans Kültürünü Nasıl Oluşturdu?\nOKR\, CFR\, KPI ve Koçluğun bir arada nasıl yüksek performans kültürü yarattığını LiveWell’in kültürel dönüşüm hikayesinde birlikte dinliyoruz. \n📅 22 Mayıs Perşembe\n🕚 11:00\n📍 Linkedin Live \nTakviminize işaretleyin\, ilham veren bir dönüşüm hikayesinde buluşalım! \n 
URL:https://myliba.com/tr/event/livewellin-kulturel-donusum-yolculugu/
LOCATION:Linkedin Live
CATEGORIES:CFR,KPI,OKR
END:VEVENT
END:VCALENDAR