BEGIN:VCALENDAR
VERSION:2.0
PRODID:-//Myliba - ECPv6.15.12.2//NONSGML v1.0//EN
CALSCALE:GREGORIAN
METHOD:PUBLISH
X-WR-CALNAME:Myliba
X-ORIGINAL-URL:https://myliba.com/tr
X-WR-CALDESC:Myliba için etkinlikler
REFRESH-INTERVAL;VALUE=DURATION:PT1H
X-Robots-Tag:noindex
X-PUBLISHED-TTL:PT1H
BEGIN:VTIMEZONE
TZID:Europe/Moscow
BEGIN:STANDARD
TZOFFSETFROM:+0300
TZOFFSETTO:+0300
TZNAME:MSK
DTSTART:20240101T000000
END:STANDARD
END:VTIMEZONE
BEGIN:VEVENT
DTSTART;TZID=Europe/Moscow:20250507T110000
DTEND;TZID=Europe/Moscow:20250507T120000
DTSTAMP:20260420T095852
CREATED:20250501T125544Z
LAST-MODIFIED:20250501T130705Z
UID:464-1746615600-1746619200@myliba.com
SUMMARY:Yüksek Performans Kültürü = Sürekli Anlamlı Diyalog
DESCRIPTION:Yüksek Performans Kültürü = Sürekli Anlamlı Diyalog\nBu denklem\, kurumunuzun potansiyelini tam olarak ortaya çıkarmanın ve sürdürülebilir başarıya ulaşmanın anahtarı!\nİç iletişimin önemini biliyoruz ama ne kadar etkili ve yaygın kullanıyoruz?\nTeknoloji iletişimimizi nasıl kolaylaştırıyor?\nİç iletişime bakış açınızı değiştirme zamanınız geldi!\nHadi CFR konuşalım.
URL:https://myliba.com/tr/event/yuksek-performans-kulturu-surekli-anlamli-diyalog/
CATEGORIES:CFR,KPI,OKR
END:VEVENT
END:VCALENDAR